BEGIN:VCALENDAR
VERSION:2.0
PRODID:-//360 Alumni//Morehouse College//EN
METHOD:REQUEST
BEGIN:VEVENT
UID:10169
DTSTAMP:20231028T120000Z
DTSTART:20231028T120000Z
DTEND:20231029T000000Z
LOCATION:Morehouse College
SUMMARY: Tent & RV Registration for 2023 Morehouse Homecoming Tailgate (CLOSED)
DESCRIPTION: Thank you for registering for HOMECOMING 2023 : Tailgate and RV Registration.&nbsp;REGISTRATION for tTent and RV Spaces this year's event is SOLD OUT. Only Individual Online Tickets are available on our Freshtix site.Morehouse Homecoming is the most anticipated event of the year, and this year it&rsquo;s scheduled for the weekend of October 27-29, 2023.&nbsp;As a Morehouse alum, you know all too well about the excitement, revelry and nostalgia that the very thought of Morehouse Homecoming provokes.&nbsp;This year's homecoming tailgate theme is &rsquo;Ascension'&nbsp;and we hope that it truly is your best homecoming tailgate experience ever.&nbsp;This year, tailgate spaces became available for purchase on July 21, 2023 and the overwhelming response has been amazing to watch. ONE-DAY&nbsp;EVENT INSURANCE COVERAGE (REQUIRED):&nbsp;Our senior leadership and management&nbsp;team requires all&nbsp;tailgate hosts to provide one-day general liability insurance to protect you, as the tailgate host, and Morehouse College,&nbsp;as the event&nbsp;organizer.&nbsp;We encourage you to consult your home insurance provider or visit&nbsp;www.theeventhelper.com#dcv2Xa&nbsp;to secure your insurance rider separately. &nbsp;Morehouse College must be named as co-insured on your rider.As in years past, the College will secure all city&nbsp;and state permits required for our one-day Homecoming festival. This is an Alumni Engagement event that will hopefully promote fellowship and giving back to our institutions.NOTE: GENERAL LIABILITY INSURANCE COVERAGE IS REQUIRED AND MUST BE SUBMITTED BEFORE RETRIEVING TAILGATE or VENDOR CREDENTIALS. &nbsp;Each&nbsp;year,&nbsp;all registered and approved Alumni Tailgate hosts must also attend a pre-event webinar&nbsp;to review our public safety and tailgating guidelines in early October.&nbsp;We look forward to seeing you on October 28, 2023!Should you have any questions, please email Joe Carlos '04, the Director of Alumni Engagement at joseph.carlos@morehouse.edu.Please remember your order is not complete until you have received a confirmation email from the system.
END:VEVENT
END:VCALENDAR
