BEGIN:VCALENDAR
VERSION:2.0
PRODID:-//360 Alumni//Morehouse College//EN
METHOD:REQUEST
BEGIN:VEVENT
UID:10191
DTSTAMP:20230819T220000Z
DTSTART:20230819T220000Z
DTEND:20230820T030000Z
LOCATION:Atlanta Marriott Northwest at Galleria
SUMMARY: 3rd Annual Maroon Tiger Awards Gala
DESCRIPTION: We are excited to invite you to the Morehouse Football Alumni Association&rsquo;s 3rd Annual Maroon Tiger Awards Gala, which will be held&nbsp;on August 19, 2023&nbsp;at the Atlanta Marriott Northwest Galleria. Please join us to support the Morehouse Football program and to kick off the upcoming season in what will be a fantastic night. Help us usher in the new era of Maroon Tiger Football under the leadership of Head Coach Gerard Wilcher. Once again we&rsquo;ll have the best band in the land, The House of Funk marching Maroon Tigers, we&rsquo;ll be pinning the team captains, hearing from Coach Wilcher and our outstanding honorees. There will be great food, dancing, and a silent auction! All hosted by actor and radio/TV personality Jarard J!&nbsp;Tickets to this year&rsquo;s event will help us to continue to support the football program and players at Morehouse College. Thanks to supporters like you, our organization has been able to make a big positive impact on the program!&nbsp;&nbsp;Please mark your calendars now and make plans to be there as we kick off Coach Wilcher&rsquo;s first Season! You don&rsquo;t want to miss what we have in store this year! We&rsquo;ll be announcing this year&rsquo;s honorees soon.&nbsp;Get your tickets&nbsp;before they sell out!&nbsp;&nbsp;Date:&nbsp;August 19, 2023Location:&nbsp;Atlanta Marriott Northwest at Galleria&nbsp;200 Interstate North Pkwy SE, Atlanta, GA 30339Cocktails:&nbsp;6 pmDinner:&nbsp;7pmGeneral Seating:&nbsp;$175.00Preferred Seating:&nbsp;$250.00**With the purchase of this ticket you will have preferred seating at reserved table along with&nbsp;two&nbsp;(2) drink tickets&nbsp;that can be redeemed throughout event.&nbsp;(20 drink tickets will be available with a preferred table purchase.)Book your room for Morehouse Football Alumni Association GalaIf you need hotel accommodations, please click the online reservation link above. The host hotel is offering a MFAA group rate of $129 per night. After you click check availability, you will be able to edit the check-in/check-out dates&nbsp;
END:VEVENT
END:VCALENDAR
