BEGIN:VCALENDAR
VERSION:2.0
PRODID:-//360 Alumni//Morehouse College//EN
METHOD:REQUEST
BEGIN:VEVENT
UID:10238
DTSTAMP:20230909T230000Z
DTSTART:20230909T230000Z
DTEND:20230910T010000Z
LOCATION:Greene Stadium
SUMMARY: Morehouse - Howard Wknd • Events & Accommodations Info 9/7-9/9
DESCRIPTION: Join us in Washington, DC for the 2023 Morehouse v. Howard Football Game&nbsp;The Morehouse College Maroon Tigers take on the Howard University Bison on campus at William H. Greene Stadium in Washington, D.C., on Saturday, Sept. 9, 2023 at 7 P.M.. The game will mark the 39th overall meeting between the two schools on the gridiron.Morehouse and Howard have played on the gridiron for 100 years with the Bison winning the most recent contest in the 2022 HBCU New York City Football Classic last season at MetLife Stadium in East Rutherford, N.J.The Maroon Tigers compete in the Southern Intercollegiate Athletic Conference (SIAC) at the Division II level.&nbsp;Howard competes in the Mid-Eastern Athletic Conference (MEAC) in the Football Championship Subdivision (FCS).&nbsp;Host HotelWaldorf Astoria Washington, DC 1100 Pennsylvania Ave., Washington, DC 20004Rate: $250.00 per night Single/King (Limited Number) &bull; Click here to reserve: Morehouse Courtesy BlockReservation Deadline: August 25, 2023&bull;Thursday, September 7, 20236pm Morehouse Alumni Happy Hour hosted by Jeff D. Tate '04 and Joe Carlos III '04Rendezvous DC 2020 9th St., NW Washington, DC &bull; RSVP HereFriday, September 8, 20238:30 am&nbsp;The Morehouse Golf Classic DMV Lake Presidential Golf Club &bull; 3151 Presidential Golf Dr. Upper Marlboro, MDClick here to register:&nbsp;https://morehousegolfclassic.org/3 pmConversation with Athletic Director Harold Ellis '92 moderated by Michael Levesque '88Lake Presidential Golf Club &bull; Link:&nbsp;https://rb.gy/zp7zh6pmMorehouse-Spelman Pre-Game Welcome Hospitality HourPeacock Alley @ Waldorf Astoria Washington, DC &bull; 1100 Pennsylvania Ave., NW Washington, DCSaturday, September 9, 20239am - 11amPresidential Update featuring Dr. David A. ThomasWaldorf Astoria Washington, DC11am - 3pmMCNAA Rooftop Pre-Game EventPerch DC Rooftop Bar and Lounge &bull;&nbsp;69&nbsp;Q&nbsp;St, S.W.,&nbsp;Washington, DC 20024Book Your Reservation Today&nbsp;&nbsp;https://rb.gy/h59v35pmMorehouse College Pre-Game ActivationHoward University Greene Stadium &bull; 6th and Girard St. Washington, DC 200597pmMorehouse Maroon Tigers v. Howard University Bison&nbsp;Howard University Greene Stadium &bull; 6th and Girard St. Washington, DC 20059Purchase TicketsFor additional information, please call the Morehouse College Office of External Relations and Alumni Engagement at 470.639.0400.
END:VEVENT
END:VCALENDAR
