BEGIN:VCALENDAR
VERSION:2.0
PRODID:-//360 Alumni//Morehouse College//EN
METHOD:REQUEST
BEGIN:VEVENT
UID:10252
DTSTAMP:20231013T130000Z
DTSTART:20231013T130000Z
DTEND:20231014T220000Z
LOCATION:Morehouse College
SUMMARY: Parents & Family Weekend 2023
DESCRIPTION: Celebrating Morehouse traditions is sweeter when shared with family! Parents and families of Morehouse College students are invited to join us on campus during Parents and Families Weekend, Friday, October 13 - Sunday, October 15. A few of the fun and engaging events hosted by staff and the Morehouse College Parents Council (MCPC) are listed below:&nbsp;Schedule at a GlanceFriday, October 13, 20239:00 AM - 4:00 PM Registration &amp; Check-In (King Chapel)10:00 AM - 2:00 PM Campus Tours w/ Andrew Young Exhibit10:00 AM - 11:00 AMConcurrent Sessions I&nbsp;Student Financial ServicesCareer Success&nbsp;Health &amp; Wellness&nbsp;11:00 AM - 12:00 PM Concurrent Sessions II&nbsp;Student Financial ServicesAcademic Success Career Success&nbsp;Health &amp; Wellness&nbsp;12:00 PM - 1:00 PM Chair Yoga (low intensity)1:00 PM - 2:00 PM Academic Success @ Douglass Center2:00 PM - 3:00 PM Family Meeting/General Session (King Chapel)3:00 PM - 5:30 PM Family Fun Activities &amp; Social7:00 PM - 9:00 PM&nbsp;Hulu&nbsp;Film Screening: &ldquo;Black Cake&rdquo; *&nbsp;Saturday, October 14, 20239:00 AM - 2:00 PM Registration &amp; Check-In (King Chapel) 10:00 AM - 11:30 AM MCPC All Parents Meeting w/ Dr. Thomas10:00 AM - 2:00 PM Campus Tours w/ Andrew Young Exhibit12:00 PM - 1:00 PM MCPC Regional Meetings12:00 PM - 1:00 PM Yoga (low intensity)1:00 PM - 3:00 PM Family Tailgate Experience**3:00 PM - 5:00 PM Miles College vs Morehouse College Maroon Tigers***Free event for all registered attendees **Ticketed event, additional cost*Please be sure to carefully select your ticket option(s). General entry does&nbsp;not provide access to certain ticketed events, like the game.***REFUND POLICY: REGISTRANTS MAY REQUEST A 50% REFUND UNTIL SEPTEMBER 30, 2023. REQUESTS FOR REFUNDS SHOULD BE SENT TO&nbsp;PARENTS@MOREHOUSE.EDU&nbsp;AND MAY TAKE UP TO 30 DAYS TO BE PROCESSED.&nbsp;Discounted Lodging Accommodations Home2 Suites&nbsp;Booking Link:&nbsp;https://www.hilton.com/en/book/reservation/deeplink/?ctyhocn=ATLDWHT&amp;groupCode=CHT90F&amp;arrivaldate=2023-10-12&amp;departuredate=2023-10-15&amp;cid=OM,WW,HILTONLINK,EN,DirectLink&amp;fromId=HILTONLINKDIRECT&nbsp;Hampton Inn &amp; SuitesBooking Link:&nbsp;https://www.hilton.com/en/book/reservation/deeplink/?ctyhocn=ATLHSHX&amp;groupCode=CHH908&amp;arrivaldate=2023-10-12&amp;departuredate=2023-10-15&amp;cid=OM,WW,HILTONLINK,EN,DirectLink&amp;fromId=HILTONLINKDIRECT&nbsp;
END:VEVENT
END:VCALENDAR
