BEGIN:VCALENDAR
VERSION:2.0
PRODID:-//360 Alumni//Morehouse College//EN
METHOD:REQUEST
BEGIN:VEVENT
UID:10928
DTSTAMP:20241026T090000Z
DTSTART:20241026T090000Z
DTEND:20241026T230000Z
LOCATION:Morehouse College
SUMMARY: 2024 MOREHOUSE HOMECOMING VENDOR & SPONSOR REGISTRATION
DESCRIPTION: *The information below is for Food and Merchandise Vendors ONLY.*Information for Tailgate Hosts may be found&nbsp;HERE.*Sponsorship Information may be found&nbsp;HERE.*Confirmed sponsors may select the appropriate option to make an electronic payment using this site.**************************************************************************************Calling all Vendors! Don&rsquo;t miss your opportunity to partner with us for the most sought after Homecoming experience in the country! Join us for a great time and showcase your best wares and fare to be enjoyed by tens of thousands of attendees. Booth space is limited to a MAXIMUM of TWO 10 X 10 spaces or ONE 10 X 20 space per vendor. To purchase your space, click on the 'REGISTER' button.With the anticipated number of guests coming to campus, we have increased our safety and security procedures to best protect our community. We want to ensure that this year's events are as safe and enjoyable as possible for everyone.PLEASE NOTE THE FOLLOWING IMPORTANT DETAILS:1. All Food Vendors -&nbsp;ONE-DAY&nbsp;EVENT INSURANCE COVERAGE (REQUIRED):&nbsp;Our policy requires all&nbsp;food vendors to provide one-day general liability insurance ($1,000,000 Occurrence/ $2,000,000 Aggregate) to protect you, as the vendor, and Morehouse College,&nbsp;as the event&nbsp;organizer.&nbsp;We encourage you to consult your home insurance provider or visit&nbsp;www.theeventhelper.com#dcv2Xa&nbsp;to secure your insurance rider separately. &nbsp;****GENERAL LIABILITY INSURANCE COVERAGE IS REQUIRED AND MUST BE SUBMITTED BEFORE RETRIEVING VENDOR CREDENTIALS. MOREHOUSE COLLEGE MUST BE NAMED AS "CO-INSURED" ON YOUR RIDER*****2. ALL FOOD TRUCK VENDORS MUST OBTAIN THEIR VENDING PERMITS FROM THE CITY OF ATLANTA AND PROVIDE TO OUR OFFICE NO LATER THAN OCTOBER 11, 2024.&nbsp; VENDORS WHO DO NOT MEET THIS REQUIREMENT BY THE DEADLINE MAY FORFEIT THEIR SPACE AND ALL MONIES PAID IN ADVANCE.&nbsp;To request an inspection for a City of Atlanta mobile food truck/trailer fire inspection for permit, please visit&nbsp;https://www.atlantafirerescue.com&nbsp;or contact:&nbsp;Chandera&nbsp;Mahoney-Fire Inspector Supervisor-Food Truck InspectorAtlanta Fire Rescue Department -(Birdine Center Building)215 Lakewood Way SW;&nbsp;Atlanta, GA&nbsp; 30315Office: 404-546-7087 |Cell: 404-556-6963 |Fax: 404-225-5815Email:&nbsp;cmmahoney@atlantaga.gov&nbsp;3. All registered and approved Food and Merchandise Vendors must attend a pre-event webinar&nbsp;to review our public safety, tailgating and vending guidelines on Tuesday, October 15 at 5:00 PM EST.&nbsp;Additional Requirements for All VendorsFood Vendors: Food must be fresh, and prepared and maintained in a safe, hygienic manner, if it is served as samples and/or purchase to our guests.At no time are vendors to sell or serve Alcohol to guests without written approval from the Office of External Relations and Alumni Engagement. Violators will be shut down immediately.Any engagement in illegal or unlawful behavior may subject you (including your company, employees, agents, contractors, subcontractors) to immediate removal from the College and its premises and criminal prosecution, to the fullest extent of the law.Vendors must identify disruptors and should contact campus safety officers.For additional questions or concerns, please email Katina Hawkins at katina.hawkins@morehouse.edu or call the office at 470-639-0400.We look forward to partnering with you to make this highly anticipated event a safe and unforgettable one for all!Thank you!We look forward to seeing you on October 26, 2024!Sincerely,&nbsp;&nbsp;&nbsp;&nbsp; &nbsp; &nbsp; &nbsp; &nbsp; &nbsp; &nbsp;Katina HawkinsDirector, Parent Engagement, Partnerships &amp; Event Sponsorshipskatina.hawkins@morehouse.edu
END:VEVENT
END:VCALENDAR
