BEGIN:VCALENDAR
VERSION:2.0
PRODID:-//360 Alumni//Morehouse College//EN
METHOD:REQUEST
BEGIN:VEVENT
UID:10933
DTSTAMP:20240913T220000Z
DTSTART:20240913T220000Z
DTEND:20240914T010000Z
LOCATION:The Edison Ballroom
SUMMARY: SpelWardHouse Reception for the Toyota HBCU NY Football Classic Wkd
DESCRIPTION: Do you have plans to attend the upcoming HBCU Classic between Morehouse x Howard? If so, this is the event for you!You are invited to an event of a lifetime has been created for alumni from Morehouse, Howard and Spelman, as a kickoff to the HBCU Classic football game. This is a party-with-a-purpose event complete with a giving challenge. To support this effort, each ticket sold has 25% of the proceeds going to the institution's Annual Fund.We all know SpelHouse and The Real HU, but do we know SpelWardHouse? Join us Friday, September 13, 2024, at The Edison to find out!Age Limit: 21 and upSpelWardHouse ReceptionFriday, September 13, 20246:00 p.m. - 9:00 p.m.The Edison Ballroom240 W. 47th St.New York, NY 10036Ticket Price:&nbsp; $100 (includes all you can eat and an open bar. &nbsp;A portion of the ticket price, $25 is a tax-deductible donation to Funds for Morehouse) - click the "Register" button above.
END:VEVENT
END:VCALENDAR
