BEGIN:VCALENDAR
VERSION:2.0
PRODID:-//360 Alumni//Morehouse College//EN
METHOD:REQUEST
BEGIN:VEVENT
UID:10937
DTSTAMP:20240914T160000Z
DTSTART:20240914T160000Z
DTEND:20240914T190000Z
LOCATION:Redds (Meadowlands)
SUMMARY: Spelhouse Howard Classic Pregame Brunch and Day Party (NYC)
DESCRIPTION: Celebrate HBCU Excellence at the 1867 Lounge Experience!The Pre-Game Brunch &amp; Day PartyCome kick off the day in style with a pre-game brunch and day party at Redd's! Enjoy complimentary brunch bites, beats, and bubbly as we celebrate the excellence of HBCUs powered by 23andMe. Hop on our complimentary Redd's shuttle buses to head over to MetLife Stadium for an unforgettable day. Whether you're a die-hard football fan or just looking to vibe with the community, this is an event you won't want to miss. DOORS OPEN AT NOON. COMPLIMENTARY ADMISSION w/RSVP.The Post-Game Happy HourAfter the game (or halftime if you want to), return to Redd's for our post-game happy hour. Indulge in food and drink specials, vibe with our DJs, catch all the football action on our 35 TVs, and kick it like we used to back in the day! Make the most of your HBCUnity celebration with us! DOORS OPEN at 4:30 PM.Don't Stress About Parking - Enjoy Discounted Parking &amp; Free Shuttle Service!Forget about parking headaches on game day - we've got you covered! Take advantage of discounted gameday parking that includes free shuttle service to and from MetLife Stadium all day long.RSVP and let's celebrate HBCU excellence together!
END:VEVENT
END:VCALENDAR
