BEGIN:VCALENDAR
VERSION:2.0
PRODID:-//360 Alumni//Morehouse College//EN
METHOD:REQUEST
BEGIN:VEVENT
UID:11011
DTSTAMP:20241108T140000Z
DTSTART:20241108T140000Z
DTEND:20241110T230000Z
LOCATION:Morehouse College
SUMMARY: Parents and Family Weekend 2024 Ticketed Events
DESCRIPTION: Greetings!&nbsp;We are excited that you will join us for Parents and Family Weekend this year! Most of the events that will take place throughout the weekend only require registration at no cost. However, there are a few events that require a ticket which may be purchased here.&nbsp;*Morehouse students will receive one complimentary ticket to each of the events their parents and family are registered to attend (with the exception of the concert).
END:VEVENT
END:VCALENDAR
