BEGIN:VCALENDAR
VERSION:2.0
PRODID:-//360 Alumni//Morehouse College//EN
METHOD:REQUEST
BEGIN:VEVENT
UID:11575
DTSTAMP:20251107T160000Z
DTSTART:20251107T160000Z
DTEND:20251107T210000Z
LOCATION:Morehouse College
SUMMARY: Student Services & KFC Activation
DESCRIPTION: NIMBUS and KFC will host an activation on campus and provide food and merch to students.
END:VEVENT
END:VCALENDAR
