BEGIN:VCALENDAR
VERSION:2.0
PRODID:-//360 Alumni//Morehouse College//EN
METHOD:REQUEST
BEGIN:VEVENT
UID:11642
DTSTAMP:20260213T210000Z
DTSTART:20260213T210000Z
DTEND:20260214T000000Z
LOCATION:5Church Midtown
SUMMARY: 2026 Fifty Under Fifty Honors Event Sponsorship
DESCRIPTION: Dear Prospective Partner,Thank you for your interest in partnering with Morehouse College through the Morehouse 50 Under 50 Honors. We are pleased to welcome you to this sponsorship book and to share an opportunity to align with one of the College&rsquo;s newest and most impactful alumni recognition initiatives.The Morehouse 50 Under 50 Honors was created to celebrate exceptional alumni under the age of 50 whose leadership, innovation, service, and professional excellence embody the enduring values and legacy of Morehouse. These honorees represent the next generation of influential leaders across business, education, health, public service, entrepreneurship, the arts, and beyond&mdash;men who are shaping communities and industries while remaining deeply connected to the institution that helped shape them.The inaugural celebration will take place on Friday, February 13, 2026, in Atlanta and will convene a distinguished audience of alumni leaders, institutional stakeholders, and corporate partners. This intimate yet high-impact gathering offers sponsors meaningful brand visibility, authentic engagement with influential alumni, and a clear demonstration of commitment to leadership, excellence, and the advancement of education.Within this sponsorship book, you will find a range of partnership opportunities designed to provide value, recognition, and alignment with your organizational goals. Each sponsorship level offers a unique platform to support alumni excellence while strengthening your connection to the Morehouse community.We invite you to review the opportunities outlined and to consider joining us as a valued partner in celebrating emerging excellence and leadership. Your support not only elevates this signature event, but also reinforces Morehouse College&rsquo;s mission to develop leaders who will change the world.Thank you for your consideration and for your continued belief in the power of education, leadership, and legacy.True Forever,Joe Carlos III &lsquo;04, MBADirector of Alumni Engagement, Programming and EventsMorehouse CollegePlease click here to review the sponsorship opportunities.
END:VEVENT
END:VCALENDAR
