BEGIN:VCALENDAR
VERSION:2.0
PRODID:-//360 Alumni//Morehouse College//EN
METHOD:REQUEST
BEGIN:VEVENT
UID:3968
DTSTAMP:20180124T223000Z
DTSTART:20180124T223000Z
DTEND:20180125T010000Z
LOCATION:Ray Charles Performing Arts Center, Morehouse College
SUMMARY: Martin Luther King Jr. Collection Lecture and Conversation Series
DESCRIPTION: Speaker: Marian Wright Edelman, President and Founder, Children&#39;s Defense Fund
Program Theme: &quot;Looking Back and Beyond: The Unfinished Work of Martin Luther King Jr.&quot;

&nbsp;
END:VEVENT
END:VCALENDAR
