BEGIN:VCALENDAR
VERSION:2.0
PRODID:-//360 Alumni//Morehouse College//EN
METHOD:REQUEST
BEGIN:VEVENT
UID:3969
DTSTAMP:20180125T160000Z
DTSTART:20180125T160000Z
DTEND:20180125T165000Z
LOCATION:Martin Luther King Jr. International Chapel, Morehouse College
SUMMARY: Martin Luther King Jr. Crown Forum
DESCRIPTION: Speaker: Rev. Ernest Andrew Brooks III &#39;05
Topic: &quot;Re-imagining Martin Luther King, Jr.: Remixing and Re-Engaging&quot;
END:VEVENT
END:VCALENDAR
