BEGIN:VCALENDAR
VERSION:2.0
PRODID:-//360 Alumni//Morehouse College//EN
METHOD:REQUEST
BEGIN:VEVENT
UID:3970
DTSTAMP:20180130T220000Z
DTSTART:20180130T220000Z
DTEND:20180130T233000Z
LOCATION:Archives Research Center, Atlanta University Center Robert W. Woodruff Library
SUMMARY: King Collection Viewing of Original Documents
DESCRIPTION: King Collection Viewing of Original Documents
END:VEVENT
END:VCALENDAR
