BEGIN:VCALENDAR
VERSION:2.0
PRODID:-//360 Alumni//Morehouse College//EN
METHOD:REQUEST
BEGIN:VEVENT
UID:3971
DTSTAMP:20180131T220000Z
DTSTART:20180131T220000Z
DTEND:20180201T000000Z
LOCATION:Morehouse College
SUMMARY: Literary Salon
DESCRIPTION: King Legacy Scholars and other student groups will gather will to discuss King&#39;s book,&nbsp;The Trumpet of Conscience.

Contact: maurice.washington@morehouse.edu or 470.639.0355
END:VEVENT
END:VCALENDAR
