BEGIN:VCALENDAR
VERSION:2.0
PRODID:-//360 Alumni//Morehouse College//EN
METHOD:REQUEST
BEGIN:VEVENT
UID:3978
DTSTAMP:20180218T000000Z
DTSTART:20180218T000000Z
DTEND:20180218T030000Z
LOCATION:Hyatt Regency Atlanta
SUMMARY: A Candle in the Dark Gala
DESCRIPTION: Gala Tickets on Sale Now

On behalf of Board Chairman Willie Woods &#39;85, the Morehouse College Board of Trustees, and Dr. David A. Thomas,&nbsp;the 12th President of Morehouse College,&nbsp;I am pleased to&nbsp;share the link for our 30th Anniversary,&nbsp;A Candle in the Dark Gala,&nbsp;in observance of the 151st Anniversary of the founding of Morehouse College.&nbsp;

Starting today, you can purchase tickets at the link provided below:

&nbsp;PURCHASE 2018 GALA TICKETS TODAY

Limited corporate sponsorship packages remain available at the&nbsp;Bronze,&nbsp;Silver,&nbsp;and&nbsp;Gold&nbsp;levels.&nbsp;&nbsp;We want to inspire our alumni and friends with corporate philanthropic interests to support Morehouse College by encouraging your company to become a sponsor before&nbsp;January 17th.&nbsp;&nbsp;If interested, please register today at&nbsp;https://giving.morehouse.edu/candle-2018-sponsors.

RESERVE YOUR ROOM TODAY

Thank you for also making your reservations early at our host hotel, the historic Hyatt Regency&nbsp;Atlanta&nbsp;(1-800-233-1234).&nbsp;&nbsp;A block room rate of $199/night is available for double or standard king rooms through&nbsp;January 17th&nbsp;or until the block is filled.&nbsp; A number of suites are available at $239/night.&nbsp; To make a reservation directly, click here:&nbsp;RESERVE HYATT TODAY.

Complete Founder&#39;s Week Schedule and 2018 Honoree and Speakers

A complete&nbsp;listing of our Founder&#39;s Week activities, speakers, concert artists, and distinguished 2018 Bennie and Candle honorees will be&nbsp;announced next week.&nbsp; Please purchase your tickets today.

&nbsp;

Happy New Year!&nbsp;

Henry M. Goodgame, Jr &#39;84
END:VEVENT
END:VCALENDAR
