BEGIN:VCALENDAR
VERSION:2.0
PRODID:-//360 Alumni//Morehouse College//EN
METHOD:REQUEST
BEGIN:VEVENT
UID:4012
DTSTAMP:20180202T170000Z
DTSTART:20180202T170000Z
DTEND:20180202T180000Z
LOCATION:St. Paul Church
SUMMARY: Celebrating the Life of Cheryl Rachel Franklin
DESCRIPTION: Cheryl Rachel Franklin, the sister of President Emeritus Robert L. Franklin, recently transitioned. Details on her arrangements are listed below.
&nbsp;

1. VISITATION or VIEWING

Thursday, February 1, 2018, 5pm - 8pm&nbsp;at A.R. Leak Funeral Home,&nbsp;7838 S. Cottage Grove, Chicago, IL 60619&nbsp;(773-846-6567)

&nbsp;

2. WAKE

Friday, February 2, 2018

10 am - 11 am, at St. Paul COGIC,&nbsp;4526 S. Wabash, 60653

&nbsp;

3. FUNERAL

Friday, February 2, 11 am - 12:30 pm, at St. Paul Church, &nbsp;

Robert Franklin, Eulogist

&nbsp;

4. INTERMENT

Friday, at Cedar Park Cemetery,&nbsp;12540 S. Halsted St., Calumet Park, IL 60827

&nbsp;

5. REPAST

Friday, at St. Paul COGIC,&nbsp;2:30-4pm

&nbsp;

Communications or plants in honor of Cheri&rsquo;s environmental values and advocacy may be sent to:

The Franklin Family

18030 PopLar Lane

Country Club Hills, IL 60478
END:VEVENT
END:VCALENDAR
