BEGIN:VCALENDAR
VERSION:2.0
PRODID:-//360 Alumni//Morehouse College//EN
METHOD:REQUEST
BEGIN:VEVENT
UID:4065
DTSTAMP:20180223T000000Z
DTSTART:20180223T000000Z
DTEND:20180223T000000Z
LOCATION:Frank L. Forbes Arena - Morehouse College
SUMMARY: MOREHOUSE v. Clark Atlanta University - Basketball
DESCRIPTION: Tonight! The nationally ranked, SIAC leading, 23-1 Morehouse College Maroon Tigers defend our home court at Frank L. Forbes Arena as they take on the the Clark Atlanta University Panthers.

&nbsp;

Morehouse Maroon Tigers vs. Clark Atlanta Panthers
Basketball Game
&nbsp;

February 22, 2018&nbsp; |&nbsp; &nbsp;7 p.m.&nbsp; |&nbsp; &nbsp;Forbes Arena


**Doors open at 6&nbsp;p.m.**

TICKETING:
Ticket Booth opens at 4 p.m.
General Admission $15.00 (Cash Only)
Morehouse and Spelman Students &ndash; Free w/ ID
Morehouse Faculty and Staff + 1 &ndash; Free w/ ID

___________

ENTRY:

Faculty, staff,&nbsp;and&nbsp;students&nbsp;should enter&nbsp;through the campus-side of the arena&nbsp;(upper level only).

All other attendees&nbsp;should enter through the Fair Street entrance.


___________


Security Screening at Entry
No signage, large bags or backpacks


END:VEVENT
END:VCALENDAR
