BEGIN:VCALENDAR
VERSION:2.0
PRODID:-//360 Alumni//Morehouse College//EN
METHOD:REQUEST
BEGIN:VEVENT
UID:4176
DTSTAMP:20180518T180000Z
DTSTART:20180518T180000Z
DTEND:20180518T190000Z
LOCATION:Thomas Kilgore Center
SUMMARY: Reunion Class Photos: 1953, 1958, 1963
DESCRIPTION: Official class photographs for the Platinum Classes with the exception of the Golden Tigers. The photos will be taken on the steps of the Thomas Kilgore Campus Center.&nbsp;

Class of 1953 - 2PM
Class of 1958 - 2:15PM
Class of 1963 - 2:30PM
END:VEVENT
END:VCALENDAR
