BEGIN:VCALENDAR
VERSION:2.0
PRODID:-//360 Alumni//Morehouse College//EN
METHOD:REQUEST
BEGIN:VEVENT
UID:4208
DTSTAMP:20180519T143000Z
DTSTART:20180519T143000Z
DTEND:20180519T184500Z
LOCATION:Thomas Kilgore Campus Center
SUMMARY: Reunion Class Photos: 1978, 1983, 1988, 1993, 1998, 2003, 2008, 2013
DESCRIPTION: Official class photos taken on the steps of the Thomas Kilgore Campus Center.

Class of 1978 - 10:30-10:50 am
Class of 1983 - 11:00-11:20 am
Class of 1988 - 11:30-11:50 am
Class of 1993 - 12:00-12:20 pm
Class of 1998 - 12:30-12:50 pm
Class of 2003 - 1:00-1:20 pm
Class of 2008 - 1:30-1:50 pm
Class of 2013 - 2:00-2:20 pm
END:VEVENT
END:VCALENDAR
