BEGIN:VCALENDAR
VERSION:2.0
PRODID:-//360 Alumni//Morehouse College//EN
METHOD:REQUEST
BEGIN:VEVENT
UID:4209
DTSTAMP:20180518T200000Z
DTSTART:20180518T200000Z
DTEND:20180518T210000Z
LOCATION:Benjamin E. Mays Memorial
SUMMARY: Alumni Procession for Rites of Passage for Alumni and Graduating Srs
DESCRIPTION: Alumni procession for Rites of Passage lead by African Drummers for Alumni and Graduating Seniors Ceremony

Benjamin E. Mays Memorial Martin Luther King, Jr. International Chapel

&nbsp;
END:VEVENT
END:VCALENDAR
