BEGIN:VCALENDAR
VERSION:2.0
PRODID:-//360 Alumni//Morehouse College//EN
METHOD:REQUEST
BEGIN:VEVENT
UID:4210
DTSTAMP:20180519T160000Z
DTSTART:20180519T160000Z
DTEND:20180519T170000Z
LOCATION:Sale Hall Chapel for the Inward Journey
SUMMARY: Meet & Greet with President David A. Thomas
DESCRIPTION: Sale Hall Chapel for the Inward Journey
END:VEVENT
END:VCALENDAR
