BEGIN:VCALENDAR
VERSION:2.0
PRODID:-//360 Alumni//Morehouse College//EN
METHOD:REQUEST
BEGIN:VEVENT
UID:4366
DTSTAMP:20180808T130000Z
DTSTART:20180808T130000Z
DTEND:20180813T130000Z
LOCATION:Martha's Vineyard
SUMMARY: House on the Vineyard: August 8-13
DESCRIPTION: The Greater Boston Morehouse College Alumni Association (GBMCAA) invites you to join us in Martha&rsquo;s Vineyard,&nbsp;August 9 - 13, 2018, for the 2nd Annual House on the Vineyard (HOV). You don&rsquo;t want to miss this amazing, action-packed weekend dedicated to honoring black excellence and supporting the brothers of Morehouse College.&nbsp;
END:VEVENT
END:VCALENDAR
