BEGIN:VCALENDAR
VERSION:2.0
PRODID:-//360 Alumni//Morehouse College//EN
METHOD:REQUEST
BEGIN:VEVENT
UID:4367
DTSTAMP:20180616T130000Z
DTSTART:20180616T130000Z
DTEND:20180616T160000Z
LOCATION:The Commerce Club
SUMMARY: 8th Annual Honoring Our Fathers Breakfast - Atlanta
DESCRIPTION: The Morehouse Atlanta Metro Alumni Chapter&rsquo;s annual fundraiser will return for its 8th edition on the Saturday before Father&rsquo;s Day.


END:VEVENT
END:VCALENDAR
