BEGIN:VCALENDAR
VERSION:2.0
PRODID:-//360 Alumni//Morehouse College//EN
METHOD:REQUEST
BEGIN:VEVENT
UID:4368
DTSTAMP:20180630T120000Z
DTSTART:20180630T120000Z
DTEND:20180630T150000Z
LOCATION:Piedmont Park
SUMMARY: 11th Annual Atlanta HBCU Alumni Run/Walk
DESCRIPTION: We once&nbsp;again join with other HBCU alumni chapters in Atlanta to stay&nbsp;physically active and raise scholarship money. &nbsp;Always a good time, and it&rsquo;s for a great cause! &nbsp;Proceeds benefit the Atlanta Alumni&nbsp;Chapter&rsquo;s student support efforts.


	Anyone can register for Morehouse, so invite friends an family.
	The more registrants, the more funds our Chapter raises.
	There are 5K run/ walk, 10K run, and kids options.



END:VEVENT
END:VCALENDAR
