BEGIN:VCALENDAR
VERSION:2.0
PRODID:-//360 Alumni//Morehouse College//EN
METHOD:REQUEST
BEGIN:VEVENT
UID:4563
DTSTAMP:20180908T190000Z
DTSTART:20180908T190000Z
DTEND:20180908T220000Z
LOCATION:Lane College
SUMMARY: Football: Morehouse @ Lane College
DESCRIPTION: The Maroon Tigers take on the Lane College Dragons at Lane Stadium in Jackson, TN.

For ticket information please visit:&nbsp;https://golcdragons.com/index.aspx?path=football
END:VEVENT
END:VCALENDAR
