BEGIN:VCALENDAR
VERSION:2.0
PRODID:-//360 Alumni//Morehouse College//EN
METHOD:REQUEST
BEGIN:VEVENT
UID:4564
DTSTAMP:20180915T210000Z
DTSTART:20180915T210000Z
DTEND:20180916T000000Z
LOCATION:B.T. Harvey Stadium
SUMMARY: FOOTBALL: MOREHOUSE v. Central State University
DESCRIPTION: The Maroon Tigers host the Central State University Marauders in the home opener.

&nbsp;
END:VEVENT
END:VCALENDAR
