BEGIN:VCALENDAR
VERSION:2.0
PRODID:-//360 Alumni//Morehouse College//EN
METHOD:REQUEST
BEGIN:VEVENT
UID:4572
DTSTAMP:20180922T083000Z
DTSTART:20180922T083000Z
DTEND:20180922T233000Z
LOCATION:Soldier Field
SUMMARY: Football: Morehouse v. Miles College - Chicago Football Classic
DESCRIPTION: The Mighty Maroon Tigers take on the Miles College Bears in the Chicago Football Classic at Soldier Field. For further information please visit:&nbsp;https://www.chicagofootballclassic.org/
END:VEVENT
END:VCALENDAR
