BEGIN:VCALENDAR
VERSION:2.0
PRODID:-//360 Alumni//Morehouse College//EN
METHOD:REQUEST
BEGIN:VEVENT
UID:4573
DTSTAMP:20180929T180000Z
DTSTART:20180929T180000Z
DTEND:20180929T210000Z
LOCATION:Kentucky State University
SUMMARY: FOOTBALL: Morehouse @ Kentucky State University
DESCRIPTION: The Mighty Maroon Tigers take on the Kentucky State Thorobreds
END:VEVENT
END:VCALENDAR
