BEGIN:VCALENDAR
VERSION:2.0
PRODID:-//360 Alumni//Morehouse College//EN
METHOD:REQUEST
BEGIN:VEVENT
UID:4723
DTSTAMP:20181021T140000Z
DTSTART:20181021T140000Z
DTEND:20181028T040000Z
LOCATION:Morehouse College
SUMMARY: Morehouse Homecoming 2018
DESCRIPTION: SUNDAY, October 21st
2PM&nbsp;Homecoming Coronation - Friendship Baptist Church,&nbsp;80 Walnut St SW, Atlanta, GA 30314
5PM&nbsp;Opening Worship Service: Dr. Lawrence Edward Carter, Sr., Dean, Martin Luther King, Jr. International Chapel, Morehouse College
6PM&nbsp;Homecoming Kick-Off Jam - The Oval, Spelman College

MONDAY, October 22nd
7PM&nbsp;Homecoming Fashion Show - Martin Luther King, Jr. International Chapel, Morehouse College

TUESDAY, October 23rd
7PM&nbsp;Homecoming Neo-Soul Concert - Martin Luther King, Jr. International Chapel, Morehouse College

WEDNESDAY, October 24th
7PM&nbsp;Homecoming Hip Hop Concert - Frank L. Forbes Arena, Morehouse College

THURSDAY, October 25th
8:30AM&nbsp;&quot;So To Bind Each Son The Other&quot; Father-Son Recruitment Day - Morehouse College
11AM&nbsp;Homecoming Crown Forum - Martin Luther King, Jr. International Chapel, Morehouse College
12PM&nbsp;Homecoming Pep Rally&nbsp;
4PM&nbsp;YardFest - B Lot, Morehouse College

FRIDAY, October 26th
11AM&nbsp;Tiger Jam hosted by the Morehouse National Alumni Association at TopGolf Midtown Atlanta
1PM&nbsp;We Are Morehouse: Journeys featuring Wendell Holland &#39;06, Bank of America Auditorium, Walter E. Massey Leadership Center
2PM&nbsp;Book Signing - Dr. David A. Thomas - Morehouse College Bookstore
3PM&nbsp;Welcome Home Day Party - Camille Olivia Hanks Cosby, Ed.D. Academic Center, Spelman College
5PM&nbsp;Morehouse Media Mixer - Frederick Douglass Commons, Morehouse College
6PM&nbsp;Judson Lyons Society Homecoming Reception&nbsp;- African American Hall of Fame, Martin Luther King, Jr. International Chapel, Morehouse College
6PM&nbsp;President&#39;s Reunion Reception Honoring Major Donors and Volunteers - Invitation Only
7PM&nbsp;Homecoming Comedy Show - Martin Luther King, Jr. International Chapel, Morehouse College
7PM&nbsp;Morehouse College National Alumni Association Legacy Party Event for Golden and Platinum Tigers - The Davidson House, Morehouse College

SATURDAY, October 27th
8AM&nbsp;Why We Can&#39;t Wait Undergraduate Mentoring and Networking Breakfast hosted by the Alumni of the Morehouse College Office of Health Professions - Ginger Sullivan Auditorium, Morehouse School of Medicine - RSVP at thomasjblockersociety@gmail.com
9AM&nbsp;Homecoming Parade - Historic West End&nbsp;
12PM&nbsp;2018 Morehouse Homecoming Tailgate Experience - Morehouse College Tailgate Midway, Tailgate Hill, Tailgate Lawn
2PM&nbsp;Football Game vs. Fort Valley State University - B.T. Harvey Stadium, Morehouse College
3PM&nbsp;President&#39;s Tent to Support Athletics - B.T. Harvey Stadium, Morehouse College
7PM&nbsp;School Daze: Homecoming Step Show - Frank L. Forbes Arena, Morehouse College

SUNDAY, October 28th
11AM&nbsp;Homecoming Closing Worship Service: Rev. Anthony L. Trufant &#39;84 - Martin Luther King, Jr. International Chapel&nbsp;

HOMECOMING HOTEL INFORMATION
There are limited rooms available at the&nbsp;Embassy Suites Atlanta Centennial Park Hotel&nbsp;and the&nbsp;Renaissance Atlanta Airport Gateway Hotel.

For additional questions and concerns about the 2018 Morehouse College Homecoming Experience, please email joseph.carlos@morehouse.edu.
END:VEVENT
END:VCALENDAR
