BEGIN:VCALENDAR
VERSION:2.0
PRODID:-//360 Alumni//Morehouse College//EN
METHOD:REQUEST
BEGIN:VEVENT
UID:4724
DTSTAMP:20181025T123000Z
DTSTART:20181025T123000Z
DTEND:20181025T200000Z
LOCATION:Morehouse College
SUMMARY: "So to Bind Each Son the Other" 2018: Father Son Recruitment Day
DESCRIPTION: For years, Morehouse Men have mentioned that there isn&#39;t a specific event to help recruit their sons to Morehouse. The Office of Alumni Engagement has heard your concerns, and we&#39;ve created a day to introduce your son to the Morehouse College Experience, and it&#39;s called &quot;So To Bind Each Son The Other&quot;.&nbsp;

The day long event will be held on Thursday, October 25, 2018. The schedule of events include:
8:30 AM - Welcome Session
9:25 AM - &quot;Critical Thinking&quot; course taught by Illya Davis &#39;89
11 AM - Campus Tour
12 PM - Lunch with your Son (Chivers Dining Hall)
1 PM - Morehouse Scavenger Hunt
2&nbsp;PM - Tour of Spelman College
3&nbsp;PM - Admissions Talk/Wrap-Up/Awards/Adjournment

Program Price: $150

To register, please click the &#39;Register&#39; button above and enter the requested information about you and your son.

For further questions, please email Joe Carlos &#39;04, Associate Director of Alumni Engagement at joseph.carlos@morehouse.edu.

We&#39;ll see you on the 25th!
&nbsp;
END:VEVENT
END:VCALENDAR
