BEGIN:VCALENDAR
VERSION:2.0
PRODID:-//360 Alumni//Morehouse College//EN
METHOD:REQUEST
BEGIN:VEVENT
UID:4726
DTSTAMP:20181006T180000Z
DTSTART:20181006T180000Z
DTEND:20181006T210000Z
LOCATION:A.J. McClung Memorial Stadium
SUMMARY: FOOTBALL: MOREHOUSE v. Tuskegee
DESCRIPTION: The Mighty Maroon Tigers take on the Golden Tigers of Tuskegee University in the oldest classic in the land.&nbsp;
END:VEVENT
END:VCALENDAR
