BEGIN:VCALENDAR
VERSION:2.0
PRODID:-//360 Alumni//Morehouse College//EN
METHOD:REQUEST
BEGIN:VEVENT
UID:4727
DTSTAMP:20181011T223000Z
DTSTART:20181011T223000Z
DTEND:20181012T000000Z
LOCATION:Maggiano's
SUMMARY: Martinis & Markets: Update on Money Markets Sponsored by Joe Faxio '02
DESCRIPTION: On October 11th, 2018, Joe Faxio &#39;02, MBA, Financial Advisor&nbsp;with Morgan Stanley, is hosting&nbsp;what will be a&nbsp;quarterly happy hour geared toward Morehouse alumni&nbsp;called &ldquo;Martinis &amp; Markets&rdquo;.&nbsp; Over free Martinis, Faxio and his associate from Morgan Stanley&nbsp;will give you an update on the markets (with no sales pitches) and time to connect with other alumni.&nbsp;

Maggiano&#39;s
3368 Peachtree Rd., NE
Atlanta, GA 30305



&nbsp;
END:VEVENT
END:VCALENDAR
