BEGIN:VCALENDAR
VERSION:2.0
PRODID:-//360 Alumni//Morehouse College//EN
METHOD:REQUEST
BEGIN:VEVENT
UID:4859
DTSTAMP:20181103T180000Z
DTSTART:20181103T180000Z
DTEND:20181103T210000Z
LOCATION:CAU Panther Stadium
SUMMARY: Football: MOREHOUSE v. Clark Atlanta University
DESCRIPTION: Our Mighty Maroon Tigers will play the AUC rival Clark Atlanta University Panthers at 2pm on Saturday, November 3rd. For tickets, please visit www.cau.edu.
END:VEVENT
END:VCALENDAR
