BEGIN:VCALENDAR
VERSION:2.0
PRODID:-//360 Alumni//Morehouse College//EN
METHOD:REQUEST
BEGIN:VEVENT
UID:4883
DTSTAMP:20190216T230000Z
DTSTART:20190216T230000Z
DTEND:20190217T030000Z
LOCATION:Hyatt Regency Atlanta
SUMMARY: 34th Annual "A Candle in the Dark" Gala 2022 (Corporate Sponsors)
DESCRIPTION: THIS SITE IS FOR CORPORATE SPONSORS ONLY!&nbsp;VIP and Premium Tickets will be available on the main event site reserved for&nbsp;Individual ticket purchases after December 30.
END:VEVENT
END:VCALENDAR
