BEGIN:VCALENDAR
VERSION:2.0
PRODID:-//360 Alumni//Morehouse College//EN
METHOD:REQUEST
BEGIN:VEVENT
UID:4892
DTSTAMP:20190517T040000Z
DTSTART:20190517T040000Z
DTEND:20190519T160000Z
LOCATION:Morehouse College
SUMMARY: Class reunion
DESCRIPTION: Class of 1989 reunion
END:VEVENT
END:VCALENDAR
