BEGIN:VCALENDAR
VERSION:2.0
PRODID:-//360 Alumni//Morehouse College//EN
METHOD:REQUEST
BEGIN:VEVENT
UID:4919
DTSTAMP:20181209T153000Z
DTSTART:20181209T153000Z
DTEND:20181209T170000Z
LOCATION:West Park Baptist Church
SUMMARY: Pastoral Anniversary Celebration Rev. Jeffery Edwin Sanders '88
DESCRIPTION: Greetings in the name of Jesus Christ! It is with a great sense of esteem and joy that I write to you that on Sunday December 9, 2018. We, the West Park Baptist Church of Cleveland, Ohio , will celebrate the 3rd Anniversary of our election of Reverend Jeffery Edwin Sanders, M. Div. by a unanimous vote, as the 21st Pastor of our 96 year old church. In addition to that we thank God and celebrate Pastor Sanders&rsquo; 33rd year of ministry.

Pastor Sanders is a Graduate of the Great Class of 1988. While attending he was Chapel Assist, Member of the Judiciary Board, President of the AUC chapter of SCLC, Letterman in the 440m IH with the Morehouse Tigers Track Team, A History Major and pledged&nbsp; Psi Chapter of the Omega Psi Phi Fraternity, Inc.

The Rev. Jerome Hamilton &#39;89 and Psi Chapter &#39;87 of Omega Psi Phii, Inc. will be the Guest Preacher for the morning on December 9, 2018.

&nbsp;

&nbsp;
END:VEVENT
END:VCALENDAR
