BEGIN:VCALENDAR
VERSION:2.0
PRODID:-//360 Alumni//Morehouse College//EN
METHOD:REQUEST
BEGIN:VEVENT
UID:4939
DTSTAMP:20190216T230000Z
DTSTART:20190216T230000Z
DTEND:20190217T030000Z
LOCATION:Hyatt Regency Atlanta
SUMMARY: 2019 A Candle In The Dark Gala (Students, Parents, Faculty and Staff)
DESCRIPTION: The &quot;A Candle in the Dark&quot; Gala was named after the title of the College&#39;s official history book written by Edward A. Jones &#39;26. The Gala has become one of the nation&#39;s premier events that celebrates African American achievements. The event has honored more than 135 individuals over the past 30 years.

Past Honorees include Dr. Peter Chatard Jr. &#39;56; actors Denzel Washington, Samuel L. Jackson &#39;72 and Danny Glover; renowned historian and educator John Hope Franklin; legendary sports figures Henry &quot;Hank&quot; Aaron, Muhammad Ali and Arthur Ashe; retired New York Transit Authority worker Clarence &quot;Kappa&quot; Brown &#39;40; civil rights leaders Andrew Young and H. Julian Bond &#39;71; former Postal Rate Commission Chairman George Haley &#39;49; former U.S. Surgeon General David Satcher &#39;63; noted scholar and professor Cornel West and philanthropist and entertainer Oprah Winfrey.



Morehouse knew it needed to enhance its annual Founder&rsquo;s Day celebration when alumni and friends of the College expressed the need for a formal, elaborate and celebratory fund-raising event to draw them back to the College. Atlanta residents and local corporations, as well as members of the philanthropic community, were continually flooded with invitations from non-profit organizations requesting their participation in fundraisers, so Morehouse needed to launch a unique, memorable event.

It was imperative that the Morehouse College family did all it could to make its event stand out by conveying several special facts about the College, such as:


	Morehouse, founded in 1867, is the nation&rsquo;s only predominantly black, all-male&nbsp;institution of higher learning.



	The College is noted for its legacy of producing graduates who have become leaders in a variety of fields.


Morehouse continues to attract many of the nation&rsquo;s best and&nbsp;brightest black male students and provide an environment that is academically challenging and socially enriching.

Morehouse is committed to raising scholarship dollars to ensure that a college education remains attainable for qualified black male scholars who want and deserve a first-rate education.
END:VEVENT
END:VCALENDAR
