BEGIN:VCALENDAR
VERSION:2.0
PRODID:-//360 Alumni//Morehouse College//EN
METHOD:REQUEST
BEGIN:VEVENT
UID:5005
DTSTAMP:20190112T184500Z
DTSTART:20190112T184500Z
DTEND:20190113T231500Z
LOCATION:FAMU College of Law
SUMMARY: Morehouse College Moot Court Competing in National Competition
DESCRIPTION: Morehouse is fielding two Moot Court teams in the 2019 Amerian Moot Court National Tournament. It will be held on Jan 12 and 13 in Orlando, Florida. Specifically, it will start at 1:45pm and will be held in two locations: UCF center for emerging media (500 W. Livingston Street); and FAMU college of law (201 Beggs Ave). Space for spectators is limited, but the organizers encourage supporters to come. This is a free event and a priceless opportunity to connect with other Morehouse brothers. Be sure to wear your Morehouse gear.&nbsp;
END:VEVENT
END:VCALENDAR
