BEGIN:VCALENDAR
VERSION:2.0
PRODID:-//360 Alumni//Morehouse College//EN
METHOD:REQUEST
BEGIN:VEVENT
UID:5046
DTSTAMP:20190516T220000Z
DTSTART:20190516T220000Z
DTEND:20190519T020000Z
LOCATION:Multiple Locations (See Event Link For Details)
SUMMARY: Spelhouse Reunion 2019 Weekend
DESCRIPTION: **Spelhouse Reunion 2019 Itinerary**

&nbsp;

THURSDAY MAY 16TH, 2019

The Talented Taste @ Urban Tree Cidery 6pm - 9pm

Come experience a tasting at one of the few cider brewery&#39;s in the south. Donations are encouraged and will benefit the Morehouse College Institutional Endowment.

&nbsp;

Spelhouse Privileged @ Republic Lounge 10pm - 3am

The reunion weekend 2019 kickoff will feature complimentary cocktails for a duration of the night.Proceeds will benefit Spelman and Morehouse alumni who have founded non profit or start-up company&#39;s. To be considered, email company bio, website, and social media handle to spelhousereunion2019@gmail.com.&nbsp;&nbsp;Additional details regarding our sponsor to follow.&nbsp;

&nbsp;

FRIDAY MAY 17TH, 2019

Melanin En Blanc @ Oak Atlanta 10pm - 3am

For tickets and additional information visit : www. spelhousealumni.com

(Black &amp; White Attire Recommended)

SATURDAY MAY 18TH, 2019

Jack Of All Trades Day Party, Spelhouse Edition @ The B Complex 4pm - 9pm

The Spelhouse reunion finale will feature bottomless Jack Daniels specialty for the duration of the event.&nbsp;

&nbsp;

HOTEL RESERVATION (DEADLINE APRIL 18TH, 2019)

Additional information regarding the Spelhouse Alumni Roomblock at the Hyatt Regency Atlanta Downtown&nbsp;can be accessed by emailing the following information to spelhousereunion2019@gmail.com by April16th:


	First Name, Last Name
	Check in Date, Check out date
	Room Type (King, Queen, Double)
	Email Address
	Card Type (Debit or Credit)


Payment is not due until check in. If arrangement changes, please cancel 24 hours prior to check-in

&nbsp;

We would like to recognize the Spelman &amp; Morehouse Classes of 2014 and 2009 on their 5 and 10 year reunion. Be sure to follow @spelhouse2009 @spelhousealumni for all reunion weekend 2019 updates. For questions, comments or concerns text 323.514.1533 or email at spelhousereunion2019@gmail.com.
END:VEVENT
END:VCALENDAR
