BEGIN:VCALENDAR
VERSION:2.0
PRODID:-//360 Alumni//Morehouse College//EN
METHOD:REQUEST
BEGIN:VEVENT
UID:5055
DTSTAMP:20190122T200000Z
DTSTART:20190122T200000Z
DTEND:20190206T045000Z
LOCATION:online event
SUMMARY: "A Candle in the Dark" Gala and Inaugural Ball Advertising
DESCRIPTION: Alumni, Corporations&nbsp;and Friends of the College are invited to purchase ads in support of the this year&#39;s Gala and Inaugural Ball. This is an opportunity to show your support:&nbsp;


	For President&nbsp;Thomas&#39;s inauguration
	For Candle and Bennie honorees who may be your classmates, contemporaries or colleagues
	As a local alumni chapter
	As a class in reunion or non-reunion
	As an individual patron&nbsp;


&nbsp;

&nbsp;

&nbsp;
END:VEVENT
END:VCALENDAR
