BEGIN:VCALENDAR
VERSION:2.0
PRODID:-//360 Alumni//Morehouse College//EN
METHOD:REQUEST
BEGIN:VEVENT
UID:5107
DTSTAMP:20190214T130000Z
DTSTART:20190214T130000Z
DTEND:20190214T170000Z
LOCATION:Morehouse College
SUMMARY: Inauguration Alumni Procession Registration
DESCRIPTION: Please register to participate in the presidential inaguration procession. Deadline is Monday, February 11th at 5pm.&nbsp;
END:VEVENT
END:VCALENDAR
