BEGIN:VCALENDAR
VERSION:2.0
PRODID:-//360 Alumni//Morehouse College//EN
METHOD:REQUEST
BEGIN:VEVENT
UID:5108
DTSTAMP:20190216T160000Z
DTSTART:20190216T160000Z
DTEND:20190216T170000Z
LOCATION:Ray Charles Performing Arts Center
SUMMARY: Reflections of Excellence
DESCRIPTION: Reflections of Excellence 2019, moderated by Geoff Bennett &#39;02, NBC and MSNBC White House Correspondent. This event features the 2019 Bennie and Candle honorees.&nbsp;
END:VEVENT
END:VCALENDAR
