BEGIN:VCALENDAR
VERSION:2.0
PRODID:-//360 Alumni//Morehouse College//EN
METHOD:REQUEST
BEGIN:VEVENT
UID:5205
DTSTAMP:20191025T120000Z
DTSTART:20191025T120000Z
DTEND:20191027T160000Z
LOCATION:Morehouse College
SUMMARY: Morehouse College Homecoming 2019
DESCRIPTION: Morehouse College Homecoming&nbsp;
END:VEVENT
END:VCALENDAR
