BEGIN:VCALENDAR
VERSION:2.0
PRODID:-//360 Alumni//Morehouse College//EN
METHOD:REQUEST
BEGIN:VEVENT
UID:5260
DTSTAMP:20190310T000000Z
DTSTART:20190310T000000Z
DTEND:20190310T020000Z
LOCATION:Tabernacle Baptist Church
SUMMARY: Morehouse College Glee Club in Birmingham, AL March 9, 2019
DESCRIPTION: Morehouse College Glee Club will be performing in&nbsp;Birmingham, Alabama, Saturday&nbsp;March 9, 2019 at Brother Rev. Chris Hamlin&#39;s church, Tabernacle Baptist Church at 6:00 p.m. Tickets are on sale for $10.00 each and there are only 100 remaining.&nbsp;
END:VEVENT
END:VCALENDAR
