BEGIN:VCALENDAR
VERSION:2.0
PRODID:-//360 Alumni//Morehouse College//EN
METHOD:REQUEST
BEGIN:VEVENT
UID:5543
DTSTAMP:20190506T183000Z
DTSTART:20190506T183000Z
DTEND:20190506T200000Z
LOCATION:Ray Charles Performing Arts Center, Emma and Joe Adams Concert Hall
SUMMARY: Alumni Town Hall: Gender Identity Admission Policy
DESCRIPTION: On Monday, May 6th at the Ray Charles Performing Arts Center&#39;s Emma and Joe Adams Concert Hall, please join Morehouse College President Dr. David A. Thomas and Morehouse College National Alumni Association President Marlon Cousin &#39;87 for an exclusive alumni town hall discussion surrounding the recently adopted Morehouse College Gender Identity Admissions and Matriculation Policy.

This is a private town hall. Only alumni who have registered to attend the town hall using their confirmed email address will be permitted access to the private stream on Morehouse.TV.

For access to this private town hall discussion, please register for this event by 12 p.m. EST on Monday, May 6, 2019.&nbsp;

For further information on the Morehouse College Gender Identity Admission and Matriculation Policy, please click here.
END:VEVENT
END:VCALENDAR
