BEGIN:VCALENDAR
VERSION:2.0
PRODID:-//360 Alumni//Morehouse College//EN
METHOD:REQUEST
BEGIN:VEVENT
UID:5651
DTSTAMP:20190530T040000Z
DTSTART:20190530T040000Z
DTEND:20190608T035500Z
LOCATION:online event
SUMMARY: Commemorative Reunion Package Offer: Classes of 1969, 1979 and 1994
DESCRIPTION: Greetings Brother!

The Office of Alumni Engagement is&nbsp;offering an opportunity for the classes celebrating milestone years 25, 40 and 50 to purchase&nbsp;a reunion commemorative package.

It is a great way for those who were unable to attend the reunion to still have some keepsake items to commemorate the&nbsp;time. There are two packages that will be available for purchase and both must include a min. of $100 gift to the college or a recurring gift.&nbsp;

The deadline for purchase is&nbsp;Friday, June 7, 2019, for orders and gifts. Delivery of the items will take 3-4 weeks.&nbsp;

Commemorative Package A -&nbsp;The Legends Package ($135) includes:


	A commemorative bag
	A commemorative 2019 Reunion Shirt&nbsp;
	A personalized commemorative Reunion Certificate (50, 40, 25 year)&nbsp;
	A commemorative Reunion Medallion
	A Morehouse College Pen
	A commemorative 2019 Reunion Souvenir Booklet
	+ shipping&nbsp;&nbsp;


Commemorative Package B&nbsp;-&nbsp;The Immortals&nbsp;Package ($135) includes:


	A commemorative bag
	A commemorative 2019 Reunion Shirt&nbsp;
	A personalized commemorative Reunion Certificate (50, 40, 25 year)&nbsp;
	A commemorative Reunion Medallion
	A Morehouse College Pen
	A commemorative 2019 Reunion Souvenir Booklet
	A commemorative 2019 Reunion Class Photo
	+ shipping&nbsp;&nbsp;


The links&nbsp;to make class gifts are:

morehouse.getyams.com/1994

morehouse.getyams.com/1979

morehouse.getyams.com/1969

&nbsp;
END:VEVENT
END:VCALENDAR
