BEGIN:VCALENDAR
VERSION:2.0
PRODID:-//360 Alumni//Morehouse College//EN
METHOD:REQUEST
BEGIN:VEVENT
UID:5758
DTSTAMP:20190816T230000Z
DTSTART:20190816T230000Z
DTEND:20190816T230000Z
LOCATION:MLK CHapel
SUMMARY: NSO 2019: Alumni Interaction/Spirit Night
DESCRIPTION: &nbsp;&nbsp;
END:VEVENT
END:VCALENDAR
