BEGIN:VCALENDAR
VERSION:2.0
PRODID:-//360 Alumni//Morehouse College//EN
METHOD:REQUEST
BEGIN:VEVENT
UID:5774
DTSTAMP:20190814T210000Z
DTSTART:20190814T210000Z
DTEND:20190814T230000Z
LOCATION:Morehouse College
SUMMARY: The 4th Annual Sons of Morehouse Legacy Reception
DESCRIPTION: Do you have a son, grandson, brother, nephew or cousin in the incoming class at Morehouse? If so, they are your Legacy and the Office of Alumni Engagement would like for you to attend the annual Sons of Morehouse reception, on Wednesday August 14, 2019 from 5-7 p.m. The Sons of Morehouse reception is a great way to celebrate your Legacy while they start their own Morehouse journey.

Please RSVP by Monday, August 12, 2019.&nbsp;

For futher questions, please email Joe Carlos &#39;04 at joseph.carlos@morehouse.edu.
END:VEVENT
END:VCALENDAR
