BEGIN:VCALENDAR
VERSION:2.0
PRODID:-//360 Alumni//Morehouse College//EN
METHOD:REQUEST
BEGIN:VEVENT
UID:5942
DTSTAMP:20191026T040000Z
DTSTART:20191026T040000Z
DTEND:20191027T030000Z
LOCATION:Morehouse College Homecoming
SUMMARY: 2019 Morehouse College Homecoming Vendor Registration
DESCRIPTION: Don&rsquo;t miss your chance to become a vendor at the 2019&nbsp;Morehouse College Homecoming Tailgate Experience.&nbsp;Booth space is now available, but&nbsp;limited to a MAXIMUM of TWO spaces per vendor. To purchase, click on the &#39;REGISTER&#39; button to select your number of vendor spaces.

After payment is received, you will be emailed the 2019&nbsp;Vendor Registration Form that must be completed and returned to the Office of Alumni Engagement by October 15, 2019.

FOOD VENDORS

All food served, must follow ServSafe guidelines and at no time are vendors to sell&nbsp;or serve Alcohol to guests. Violators may be required&nbsp;to&nbsp;shut down immediately and are subject to removal&nbsp;from the tailgate vending area at the College&rsquo;s discretion.

Any engagement in illegal or unlawful behavior/sales&nbsp;may subject you, the&nbsp;vendor&nbsp;(as well as&nbsp;your&nbsp;company, employees, agents, contractors, subcontractors) to immediate removal from the College premises and criminal prosecution to the fullest extent of the law.

Please note that&nbsp;all food vendors must obtain and provide $2 Million of limited liability insurance for each day you are on Morehouse College&rsquo;s premises. You or a designee&nbsp;must also&nbsp;attend a vendor&nbsp;orientation&nbsp;with Morehouse College Police.&nbsp;

By becoming a Morehouse Homecoming food or merchandise vendor, you are agreeing to the above terms, as well as other rules and regulations that will be explained in the orientation.&nbsp;

MERCHANDISE VENDORS

Morehouse College branded merchandise MAY NOT be sold without registering with Learfield prior to Homecoming. For more information about being officially licensed to sell Morehouse College branded merchandise, please email Chimere Stanford-Jefferson (chimere.stanford@morehouse.edu). All non-Morehouse merchandise is subject to approval by the Office of External Relations and Alumni Engagement.&nbsp;

PAYMENTS
The best method for paying for your vendor space is through this automated system. Payment by check must be received in the Office of Alumni Engagement&nbsp;no later than October 1, 2019.

Vendor space location will be designated at the discretion of the Office of External Relations and Alumni Engagement, and issued&nbsp;on a first-come&nbsp;first-serve basis.

IMPORTANT PAYMENT REMINDERS

Vendor space registration is non-refundable.&nbsp;

Cash payments will not be accepted at any time.

For additional questions or concerns, please email Ardis Blanchard (ardis.blanchard@morehouse.edu) or Joe Carlos (joseph.carlos@morehouse.edu).

Thank you!
END:VEVENT
END:VCALENDAR
