BEGIN:VCALENDAR
VERSION:2.0
PRODID:-//360 Alumni//Morehouse College//EN
METHOD:REQUEST
BEGIN:VEVENT
UID:6147
DTSTAMP:20191021T010000Z
DTSTART:20191021T010000Z
DTEND:20191025T200000Z
LOCATION:Bank of America Auditorium, Walter E. Massey Leadership Center
SUMMARY: Homecoming President's Town Hall with Alumni
DESCRIPTION: Please join us on Friday, October 25th for a Presidential Town Hall with Dr. David Thomas and Gerald Hector, Executive VP and Chief Business Officer for a transparent conversation on financial stability and college affordability. The Town Hall will be held in the Bank of America Auditorium in the Walter E. Massey Leadership Center. The conversation will be streamed on Morehouse.TV.&nbsp;
END:VEVENT
END:VCALENDAR
